BEGIN:VCALENDAR
VERSION:2.0
PRODID:-//Shellharbour Scuba Centre - Dive Bass Point - Diving Holidays - Scuba Equipment &amp; Serving - Learn to Dive - PADI 5 Star Dive Centre - ECPv4.5.9//NONSGML v1.0//EN
CALSCALE:GREGORIAN
METHOD:PUBLISH
X-WR-CALNAME:Shellharbour Scuba Centre - Dive Bass Point - Diving Holidays - Scuba Equipment &amp; Serving - Learn to Dive - PADI 5 Star Dive Centre
X-ORIGINAL-URL:http://www.shellharbourscuba.com.au
X-WR-CALDESC:Events for Shellharbour Scuba Centre - Dive Bass Point - Diving Holidays - Scuba Equipment &amp; Serving - Learn to Dive - PADI 5 Star Dive Centre
BEGIN:VEVENT
DTSTART;VALUE=DATE:20180303
DTEND;VALUE=DATE:20180304
DTSTAMP:20180225T132511
CREATED:20161213T230137Z
LAST-MODIFIED:20180122T024206Z
UID:1690-1520035200-1520207999@www.shellharbourscuba.com.au
SUMMARY:PADI Open Water Diver (W1)
DESCRIPTION:Shellharbour Scuba Centre’s PADI Open Water Diver course is not only the perfect gift or a fantastic holiday activity with the kids; it is the first step to exploring the world like you may have never done before.\nNo prior scuba diving experience is required and this course is widely recognised; millions worldwide have already gone on to successfully discover the wonders of the aquatic world. As a PADI Open Water Diver\, you are given the knowledge and tools required to dive unsupervised by an instructor. \nThe PADI Open Water Diver course consists of three main phases including knowledge development (online\, independent study\, or in a classroom) to understand the basic principles of scuba diving; confined (ocean pool) water dives to learn basic scuba skills; open water dives to use your newfound skills and start exploring! Please note: our PADI Open Water Diver course is conducted over two weekends. \nBreathing underwater for the first time is something you’ll never forget and the team at Shellharbour Scuba Centre cannot wait to help you get started! We love having our past students revisit Bass Point with us time and time again. Upon completion of the PADI Open Water Diver course\, you are also able to sign up for any of our speciality Adventure Dives and earn credit toward the PADI Advanced Open Water Diver certification. \nBook with Shellharbour Scuba Centre and you will receive an exclusive PADI Open Water Diver Starter Pack! You get a full colour manual and accompanying DVD; tables; log book; dive medical; and all course equipment including air (re-fills) are included in the course fee. \nPADI Open Water Diver and PADI Advanced Open Water Diver courses are conducted at least once a month. Contact Shellharbour Scuba Centre or see the team in store to inquire about upcoming dates today. \nPrerequsite(s): At least twelve (12) years old; If you are under the age of eighteen (18)\, authority must be acquired by your accompanying parent or guardian; An adequate ability to swim and you are required to have purchased or will purchase a suitable mask and snorkel. \nYOU MUST ALSO COMPLETE WEEK TWO (2) OF THIS COURSE IN ORDER TO SUCCESSFULLY QUALIFY AS A PADI OPEN WATER DIVER; IT IS NOT OBLIGATORY TO COMPLETE THE COURSE OVER TWO (2) CONSECUTIVE WEEKENDS.\nBookings close at 2:52pm on Saturday\, July 6th\, 2019 \n
URL:http://www.shellharbourscuba.com.au/group-departure/padi-open-water-diver-w1-4/
LOCATION:41 Addison Street\, Shellharbour\, New South Wales\, 2529\, Australia
CATEGORIES:PADI Course
ATTACH;FMTTYPE=image/jpeg:http://www.shellharbourscuba.com.au/wp-content/uploads/2016/06/R10999541.jpg
ORGANIZER;CN="Shellharbour%20Scuba%20Centre":MAILTO:info@shellharbourscuba.com.au
END:VEVENT
END:VCALENDAR